BEGIN:VCALENDAR
VERSION:2.0
PRODID:-//LBM - ECPv6.15.20//NONSGML v1.0//EN
CALSCALE:GREGORIAN
METHOD:PUBLISH
X-WR-CALNAME:LBM
X-ORIGINAL-URL:https://brandenburg-motorsport.de
X-WR-CALDESC:Veranstaltungen für LBM
REFRESH-INTERVAL;VALUE=DURATION:PT1H
X-Robots-Tag:noindex
X-PUBLISHED-TTL:PT1H
BEGIN:VTIMEZONE
TZID:UTC
BEGIN:STANDARD
TZOFFSETFROM:+0000
TZOFFSETTO:+0000
TZNAME:UTC
DTSTART:20250101T000000
END:STANDARD
END:VTIMEZONE
BEGIN:VEVENT
DTSTART;VALUE=DATE:20260418
DTEND;VALUE=DATE:20260419
DTSTAMP:20260422T025302
CREATED:20260302T092141Z
LAST-MODIFIED:20260302T093156Z
UID:11307-1776470400-1776556799@brandenburg-motorsport.de
SUMMARY:54. ADAC-Roland-Rallye Nordhausen
DESCRIPTION:2. Lauf zur Rallye Landesmeisterschaft Berlin-Brandenburg 2026
URL:https://brandenburg-motorsport.de/termine/54-adac-roland-rallye-nordhausen/
LOCATION:Nordhausen
CATEGORIES:Rallye Landesmeisterschaft
END:VEVENT
BEGIN:VEVENT
DTSTART;VALUE=DATE:20260418
DTEND;VALUE=DATE:20260420
DTSTAMP:20260422T025302
CREATED:20260302T085709Z
LAST-MODIFIED:20260302T093212Z
UID:11276-1776470400-1776643199@brandenburg-motorsport.de
SUMMARY:17. Oldtimer Classics Brandenburg
DESCRIPTION:Klassische Gleichmäßigkeitsveranstaltung
URL:https://brandenburg-motorsport.de/termine/17-oldtimer-classics-brandenburg/
LOCATION:Oehna/Zellendorf\, Am Flugpl. 1\, Niedergörsdorf\, 14913\, Germany
CATEGORIES:Classic
END:VEVENT
END:VCALENDAR